BEGIN:VCALENDAR
VERSION:2.0
METHOD:PUBLISH
BEGIN:VEVENT
UID:WILD_APRICOT_EVENT_3268776_SESSION_1
DTSTART:20190917T140000Z
DTEND:20190920T140000Z
SUMMARY:2019 WA Rangers Conference
LOCATION:Rendezvous Hotel\, Scarborough\, WA
DESCRIPTION:http://aiam.org.au/event-3268776\n\n\n\n
DTSTAMP:20190228T130705Z
END:VEVENT
END:VCALENDAR
