BEGIN:VCALENDAR
VERSION:2.0
METHOD:PUBLISH
BEGIN:VEVENT
UID:WILD_APRICOT_EVENT_3172208_SESSION_1
DTSTART:20190522T220000Z
DTEND:20190524T050000Z
SUMMARY:South Australian Local Government Authorised Persons Association Annual Seminar 2019
LOCATION:Adelaide Hills Convention Centre\, 145A Mount Barker Road Hahndorf
DESCRIPTION:http://aiam.org.au/event-3172208\n\nThe Local Government Authorised Persons' Association (APA) in partnership with the Dog and Cat Management Board\, KelledyJones Lawyers and Norman Waterhouse Lawyers are proud to present the 2018 APA Professional Development Seminar at the Adelaide Hills Convention Centre on Thursday 23rd & Friday 24th May 2019. \n  https://www.facebook.com/photo.php?fbid=10215472939110776&set=gm.2326343314252510&type=3&theater&ifg=1\n  For more information and to register for this event\, click here!\n   \n  www.LGAPA.com.au\n   \n
DTSTAMP:20190228T130644Z
END:VEVENT
END:VCALENDAR
