BEGIN:VCALENDAR
VERSION:2.0
METHOD:PUBLISH
BEGIN:VEVENT
UID:WILD_APRICOT_EVENT_3058763_SESSION_1
DTSTART:20190909T140000Z
DTEND:20190914T140000Z
SUMMARY:G2Z 8th National G2Z Summit
LOCATION:Mantra on View\, Gold Coast QLD
DESCRIPTION:http://aiam.org.au/event-3058763\n\n\n\n
DTSTAMP:20190228T130654Z
END:VEVENT
END:VCALENDAR
