BEGIN:VCALENDAR
VERSION:2.0
METHOD:PUBLISH
BEGIN:VEVENT
UID:WILD_APRICOT_EVENT_3058754_SESSION_1
DTSTART:20181018T060000Z
DTEND:20181018T063000Z
SUMMARY:AIAM Inc Annual General Meeting
LOCATION:Crowne Plaza Hunter Valley\, Wine Country Drive\, Lovedale NSW
DESCRIPTION:http://aiam.org.au/event-3058754\n\nNotice of 2018 AIAM Inc Annual General Meeting\n  Date: 18 October 2018\n  Venue: Crowne Plaza Hunter Valley\, Wine Country Drive\, Lovedale NSW\n  Time: 5pm\n  \n\n  2018 AIAM AGM Agenda\n\n  AIAM AGM Minutes Melbourne 19 October 2017\n\n  \n\n  Form for appointment of proxy\n\n  Each member is entitled to appoint another member as a proxy by notice given to the Secretary no later than 24 hours before the time of the meeting in respect of which the proxy is appointed. \n  Please return completed Proxy via email to secretary@aiam.org.au before 17 October 2018. \n  AIAM Committee Nomination Form\n\n  \n\n
DTSTAMP:20190228T130837Z
END:VEVENT
END:VCALENDAR
