BEGIN:VCALENDAR
VERSION:2.0
METHOD:PUBLISH
BEGIN:VEVENT
UID:WILD_APRICOT_EVENT_3032660_SESSION_1
DTSTART:20181016T044500Z
DTEND:20181019T051800Z
SUMMARY:AIAM Workshop 2018 - Airport Transfers
LOCATION:Newcastle Airport and Crowne Plaza Hunter Valley
DESCRIPTION:http://aiam.org.au/event-3032660\n\n                                                Flying in to Newcastle for the Workshops?                                                                                    Check the timetable and match your flights with a shuttle bus for a cheap transfer.                                                            We have checked the flight schedules for all arrivals and departures and planned our timetable to best suit delegates from all over Australia.                         Get in quick as seats for each trip are limited!!         \n
DTSTAMP:20190228T131000Z
END:VEVENT
END:VCALENDAR
