BEGIN:VCALENDAR
VERSION:2.0
METHOD:PUBLISH
BEGIN:VEVENT
UID:WILD_APRICOT_EVENT_2892892_SESSION_1
DTSTART:20180522T223000Z
DTEND:20180523T060000Z
SUMMARY:Behaviour\, Welfare & Wellbeing Seminar - People & Animals in the Workplace
LOCATION:Waratah Room\, The Whitehorse Centre\, Nunawading
DESCRIPTION:http://aiam.org.au/event-2892892\n\nPeople and Animals in the Workplace invites animal welfare sector members to attend this professional development seminar\, designed for the sector\, including animal sheltering.\n  People and Animals in the Workplace is a joint initiative from Kate Mornement\, Vanessa Rohlf & Mia Cobb.\n  Shareable link to the program\n  Link to book tickets\n
DTSTAMP:20190228T131059Z
END:VEVENT
END:VCALENDAR
