BEGIN:VCALENDAR
VERSION:2.0
METHOD:PUBLISH
BEGIN:VEVENT
UID:WILD_APRICOT_EVENT_2888916_SESSION_1
DTSTART:20180523T220000Z
DTEND:20180525T050000Z
SUMMARY:South Australian Local Government Authorised Persons Association Annual Seminar 2018
LOCATION:Adelaide Hills Convention Centre\, 145A Mount Barker Road Hahndorf
DESCRIPTION:http://aiam.org.au/event-2888916\n\nThe Local Government Authorised Persons' Association (APA) in partnership with the Dog and Cat Management Board\, KelledyJones Lawyers and Norman Waterhouse Lawyers are proud to present the 2018 APA Professional Development Seminar at the Adelaide Hills Convention Centre on Thursday 24th & Friday 25th May 2018. \n  Draft program can be found here and is subject to change: \n  http://www.lgapa.com.au/2018-Professional-Development-Seminar\n  For more information and to register for this event\, click here!\n   \n  www.LGAPA.com.au\n   \n
DTSTAMP:20190228T131047Z
END:VEVENT
END:VCALENDAR
