BEGIN:VCALENDAR
VERSION:2.0
METHOD:PUBLISH
BEGIN:VEVENT
UID:WILD_APRICOT_EVENT_2888907_SESSION_1
DTSTART:20180723T140000Z
DTEND:20180726T140000Z
SUMMARY:Australian Institute of Local Government Rangers\, NSW 2018
LOCATION:Rydges Parramatta
DESCRIPTION:http://aiam.org.au/event-2888907\n\nFor more information click here\n   \n
DTSTAMP:20190228T131035Z
END:VEVENT
END:VCALENDAR
