BEGIN:VCALENDAR
VERSION:2.0
METHOD:PUBLISH
BEGIN:VEVENT
UID:WILD_APRICOT_EVENT_2888897_SESSION_1
DTSTART:20180905T140000Z
DTEND:20180907T140000Z
SUMMARY:Australian Disaster Resilience Conference
LOCATION:Perth Convention and Exhibition Centre\, 21 Mounts Bay Rd\, Perth\, WA
DESCRIPTION:http://aiam.org.au/event-2888897\n\nThe Australian Institute for Disaster Resilience will host the inaugural Australian Disaster Resilience Conference (ADRC) in Perth\, Western Australia\, from 6-7 September 2018. This conference will bring together local government\, communities\, NGOs\, not-for-profits\, research organisations\, education partners and the private sector to share thinking and practice around disaster resilience. \nTheme:\nThe rise of resilience: From the individual to the global\n Enhancing recovery by supporting community resilience     Presentations for this conference will consider\;   \n         *                 disaster resilience strategy and policy            \n\n          *                 new directions in resilience thinking            \n\n          *                 education for young people            \n\n          *                 animals in disasters            \n\n          *                 measuring and assessing disaster resilience            \n\n          *                 community recovery            \n\n          *                 innovative case studies that demonstrate disaster resilience in practice.            \n\n   For any enquiries\, contact Greg Taylor\, AIDR Events Coordinator.\n
DTSTAMP:20190228T131025Z
END:VEVENT
END:VCALENDAR
