BEGIN:VCALENDAR
VERSION:2.0
METHOD:PUBLISH
BEGIN:VEVENT
UID:WILD_APRICOT_EVENT_2827539_SESSION_1
DTSTART:20180916T140000Z
DTEND:20180919T140000Z
SUMMARY:New Zealand Companion Animal Council Inc - Conference
LOCATION:Auckland
DESCRIPTION:http://aiam.org.au/event-2827539\n\nThe New Zealand Companion Animal Council's the 27th Companion Animal Conference\, is to be held in Auckland\, New Zealand from 17th to 19th of September 2018.\n  The theme of the 2018 conference is ‘Human Behaviour Change for Animals’.\n  Why? Because if we do not understand why humans do the things they do\, and what drives them to change\, we will never be effective at making the world a better place for animals. To change human behaviour we must understand the attitudes and beliefs that motivate human behaviour in relation to animals and provide solutions to develop more compassionate behaviour towards animals.\n  Click here to find out more and to book your tickets.\n
DTSTAMP:20190228T131011Z
END:VEVENT
END:VCALENDAR
