BEGIN:VCALENDAR
VERSION:2.0
METHOD:PUBLISH
BEGIN:VEVENT
UID:WILD_APRICOT_EVENT_2529783_SESSION_1
DTSTART:20170919T140000Z
DTEND:20170921T140000Z
SUMMARY:WA Rangers Association Conference 2017
LOCATION:TBC
DESCRIPTION:http://aiam.org.au/event-2529783\n\nFor more information click here \n
DTSTAMP:20190228T131135Z
END:VEVENT
END:VCALENDAR
