BEGIN:VCALENDAR
VERSION:2.0
METHOD:PUBLISH
BEGIN:VEVENT
UID:WILD_APRICOT_EVENT_2529782_SESSION_1
DTSTART:20170724T140000Z
DTEND:20170727T140000Z
SUMMARY:Australian Institute of Local Government Rangers\, NSW
LOCATION:Rydges Parramatta
DESCRIPTION:http://aiam.org.au/event-2529782\n\nFor more information click here\n   \n
DTSTAMP:20190228T131159Z
END:VEVENT
END:VCALENDAR
