BEGIN:VCALENDAR
VERSION:2.0
METHOD:PUBLISH
BEGIN:VEVENT
UID:WILD_APRICOT_EVENT_2480914_SESSION_1
DTSTART:20170524T140000Z
DTEND:20170526T140000Z
SUMMARY:South Australian Local Government Authorised Persons Association Annual Seminar 2017
LOCATION:Adelaide Zoo Function Centre\, Frome Rd Adelaide
DESCRIPTION:http://aiam.org.au/event-2480914\n\nFor more information and to register for this event\, stay tuned!!!!\n   \n  www.LGAPA.com.au\n   \n
DTSTAMP:20190228T131211Z
END:VEVENT
END:VCALENDAR
