BEGIN:VCALENDAR
VERSION:2.0
METHOD:PUBLISH
BEGIN:VEVENT
UID:WILD_APRICOT_EVENT_2480784_SESSION_1
DTSTART:20171017T210000Z
DTEND:20171020T060000Z
SUMMARY:AIAM Annual Workshop 2017
LOCATION:Mercure Melbourne Caroline Springs
DESCRIPTION:http://aiam.org.au/event-2480784\n\nThe Institute’s workshop planning team is finalising a two day animal management workshop program  and information day for 18-20th October 2017 in Melbourne.\n  The team is excited to introduce this year's keynote speaker - James (Jim) W Crosby\, Division Management Consultant (Chief) for the City of Jacksonville Animal Care and Protective Services\, Florida USA.\n  Jim has extensive experience in animal crime investigation and teaches crime scene and other investigative procedures to Law Enforcement and Animal Control agencies and will be presenting on various topics throughout the two day program and will facilitate a special information day on Friday 20th October.\n  Themes within the program will include the following elements:\n      * Animal Transport Showcase\n\n        * Forensics\n\n        * Investigation and Prosecution\n\n        * Recruitment and Training\n\n        * AMOs on the Ground (don't forget to submit an abstract now!)\n\n     Accommodation\n  Accommodation is available on site at the Mercure\, Caroline Springs\;\n   Bookings online or on 03 83580555\n      *             Standard King Room:      $149.00         \n\n        * Standard King Room with Lake View:    $169.00 \n\n        * Studio Apt:      $169.00  \n    \n\n        * Rates quoted are per room\, per night\, room only and GST inclusive.\n\n        * Rates are based on single\, twin/double share.\n\n        * Rates are subject to availability\n\n  Accommodation is also available at Quest Apartments\, Caroline Springs\, a 5 minute stroll from our event at the Mercure\;\n   Bookings on 1800 334 033\n      *             Studio Apartment:       Queen bed (1-2 guests) $140.00        \n\n        * One Bedroom Apartment:     King Bed OR 2 Single beds (1-3 guests) $174.00\n\n        * Two Bedroom Apartment:      King Bed OR 2 Single beds + 1 Queen bed (2-5 guests) $269.00     \n\n      *      The rates are for room only\n   \n\n        * These rates are NETT rates\n\n        * These rates are for last room availability (LRA)\n\n   *A charge of $45.00 in incurred nightly for extra bedding*\n   \n      \n
DTSTAMP:20190228T131110Z
END:VEVENT
END:VCALENDAR
