BEGIN:VCALENDAR
VERSION:2.0
METHOD:PUBLISH
BEGIN:VEVENT
UID:WILD_APRICOT_EVENT_2417617_SESSION_1
DTSTART:20170911T140000Z
DTEND:20170916T140000Z
SUMMARY:G2Z
LOCATION:Mantra on View\, Gold Coast\, Queensland\, Australia
DESCRIPTION:http://aiam.org.au/event-2417617\n\n\nWhen?\n  September 2017\n  \nWhere?\n  Mantra on View\, Gold Coast\, Queensland\, Australia\n  The Getting 2 Zero National Summit  is held every two years.\n
DTSTAMP:20190228T131146Z
END:VEVENT
END:VCALENDAR
