BEGIN:VCALENDAR
VERSION:2.0
METHOD:PUBLISH
BEGIN:VEVENT
UID:WILD_APRICOT_EVENT_2281448_SESSION_1
DTSTART:20160920T160000Z
DTEND:20160922T160000Z
SUMMARY:West Australian Rangers Association Annual Training Conference
LOCATION:Rendezvous Grand Hotel in Scarborough\, WA
DESCRIPTION:http://aiam.org.au/event-2281448\n\n\nFor more information and to register for this event follow this link\n  \n\n
DTSTAMP:20190228T131247Z
END:VEVENT
END:VCALENDAR
