BEGIN:VCALENDAR
VERSION:2.0
METHOD:PUBLISH
BEGIN:VEVENT
UID:WILD_APRICOT_EVENT_2277684_SESSION_1
DTSTART:20161020T053000Z
DTEND:20161020T060000Z
SUMMARY:Annual General Meeting
LOCATION:Crowne Plaza\, Adelaide
DESCRIPTION:http://aiam.org.au/event-2277684\n\nAll AIAM members financial at the time of the AGM are eligible to attend.  \n\n  All individual members are eligible to vote\, whereas each corporate members is entitled to one vote per membership (organisation).\n  Please email any agenda items to secretary@aiam.org.au by 1 September for inclusion and circulation.\n  \n\n  \n\n
DTSTAMP:20190228T131224Z
END:VEVENT
END:VCALENDAR
