BEGIN:VCALENDAR
VERSION:2.0
METHOD:PUBLISH
BEGIN:VEVENT
UID:WILD_APRICOT_EVENT_2277683_SESSION_1
DTSTART:20161018T220000Z
DTEND:20161021T063000Z
SUMMARY:2016 AIAM Workshops
LOCATION:Crowne Plaza\, Adelaide
DESCRIPTION:http://aiam.org.au/event-2277683\n\nThe Australian Institute of Animal Management (AIAM) annual animal management workshop is themed Embracing Diversity.\nWorkshop sessions will include cultural diversity of pet ownership in the community\, stories from Officers on the ground\, pounds and shelter facility design and welfare\, rescue groups and foster carers\, and working with the community to increase understanding and reduce intake.  A highlight for delegates will be international keynote speaker Todd Stosuy\, Field Services Manager atSanta Cruz Animal Shelter in California\, USA and former President of the National Animal Care and Control Association of America presenting initiatives and strategies from a council perspective to utilise and improve relationships of resources already available in the community. \n\nThe workshop is a great opportunity to network with other Animal Management Officers from across Australia\, as well as others working with the animal management sector. \nTake advantage of an “early bird” special and book your tickets before 28 August. \nFor more information or to book your workshop tickets\, go to http://www.aiam.org.au/conference or email secretary@aiam.org.au \n
DTSTAMP:20190228T131236Z
END:VEVENT
END:VCALENDAR
